BEGIN:VCALENDAR
VERSION:2.0
PRODID:-//La Belleza del Cuerpo y la Belleza del Alma - ECPv6.4.0//NONSGML v1.0//EN
CALSCALE:GREGORIAN
METHOD:PUBLISH
X-ORIGINAL-URL:https://www.bellezacuerpoyalma.com
X-WR-CALDESC:Eventos para La Belleza del Cuerpo y la Belleza del Alma
REFRESH-INTERVAL;VALUE=DURATION:PT1H
X-Robots-Tag:noindex
X-PUBLISHED-TTL:PT1H
BEGIN:VTIMEZONE
TZID:UTC
BEGIN:STANDARD
TZOFFSETFROM:+0000
TZOFFSETTO:+0000
TZNAME:UTC
DTSTART:20220101T000000
END:STANDARD
END:VTIMEZONE
BEGIN:VEVENT
DTSTART;TZID=UTC:20220526T151500
DTEND;TZID=UTC:20220526T164500
DTSTAMP:20260423T124310
CREATED:20210918T100201Z
LAST-MODIFIED:20210918T100203Z
UID:16316-1653578100-1653583500@www.bellezacuerpoyalma.com
SUMMARY:Clase de yoga
DESCRIPTION:Si tienes cualquier duda\, infórmate en el 669 848 711
URL:https://www.bellezacuerpoyalma.com/calendario-evento/clase-de-yoga-martes-26-mayo/
LOCATION:KUNDALI\, Plaza San Juan (Edificio del Casino - 3ª planta)\, Teruel\, 44002\, España
CATEGORIES:Clases de Yoga para principiantes
ATTACH;FMTTYPE=image/jpeg:https://www.bellezacuerpoyalma.com/wp-content/uploads/2020/10/yoga-scaled.jpg
END:VEVENT
BEGIN:VEVENT
DTSTART;TZID=UTC:20220526T201500
DTEND;TZID=UTC:20220526T214500
DTSTAMP:20260423T124310
CREATED:20210918T100416Z
LAST-MODIFIED:20210918T100418Z
UID:16318-1653596100-1653601500@www.bellezacuerpoyalma.com
SUMMARY:Clase de yoga
DESCRIPTION:Si tienes cualquier duda\, infórmate en el 669 848 711
URL:https://www.bellezacuerpoyalma.com/calendario-evento/clase-de-yoga-martes-26-mayo-2/
LOCATION:KUNDALI\, Plaza San Juan (Edificio del Casino - 3ª planta)\, Teruel\, 44002\, España
CATEGORIES:Clases de Yoga para principiantes
ATTACH;FMTTYPE=image/jpeg:https://www.bellezacuerpoyalma.com/wp-content/uploads/2020/10/yoga-scaled.jpg
END:VEVENT
END:VCALENDAR