BEGIN:VCALENDAR
VERSION:2.0
PRODID:-//La Belleza del Cuerpo y la Belleza del Alma - ECPv6.4.0//NONSGML v1.0//EN
CALSCALE:GREGORIAN
METHOD:PUBLISH
X-WR-CALNAME:La Belleza del Cuerpo y la Belleza del Alma
X-ORIGINAL-URL:https://www.bellezacuerpoyalma.com
X-WR-CALDESC:Eventos para La Belleza del Cuerpo y la Belleza del Alma
REFRESH-INTERVAL;VALUE=DURATION:PT1H
X-Robots-Tag:noindex
X-PUBLISHED-TTL:PT1H
BEGIN:VTIMEZONE
TZID:UTC
BEGIN:STANDARD
TZOFFSETFROM:+0000
TZOFFSETTO:+0000
TZNAME:UTC
DTSTART:20220101T000000
END:STANDARD
END:VTIMEZONE
BEGIN:VEVENT
DTSTART;TZID=UTC:20220503T103000
DTEND;TZID=UTC:20220503T120000
DTSTAMP:20260423T124159
CREATED:20210918T090704Z
LAST-MODIFIED:20210918T090705Z
UID:16288-1651573800-1651579200@www.bellezacuerpoyalma.com
SUMMARY:Clase de yoga
DESCRIPTION:Si tienes cualquier duda\, infórmate en el 669 848 711
URL:https://www.bellezacuerpoyalma.com/calendario-evento/clase-de-yoga-martes-3-mayo/
LOCATION:KUNDALI\, Plaza San Juan (Edificio del Casino - 3ª planta)\, Teruel\, 44002\, España
CATEGORIES:Clases de Yoga para principiantes
ATTACH;FMTTYPE=image/jpeg:https://www.bellezacuerpoyalma.com/wp-content/uploads/2020/10/yoga-scaled.jpg
END:VEVENT
BEGIN:VEVENT
DTSTART;TZID=UTC:20220503T190000
DTEND;TZID=UTC:20220503T203000
DTSTAMP:20260423T124159
CREATED:20210918T090927Z
LAST-MODIFIED:20210918T090930Z
UID:16290-1651604400-1651609800@www.bellezacuerpoyalma.com
SUMMARY:Clase de yoga
DESCRIPTION:Si tienes cualquier duda\, infórmate en el 669 848 711
URL:https://www.bellezacuerpoyalma.com/calendario-evento/clase-de-yoga-martes-3-mayo-2/
LOCATION:KUNDALI\, Plaza San Juan (Edificio del Casino - 3ª planta)\, Teruel\, 44002\, España
CATEGORIES:Clases de Yoga para principiantes
ATTACH;FMTTYPE=image/jpeg:https://www.bellezacuerpoyalma.com/wp-content/uploads/2020/10/yoga-scaled.jpg
END:VEVENT
END:VCALENDAR